BEGIN:VCALENDAR
VERSION:2.0
PRODID:-//Associazione Fantalica APS
CALSCALE:GREGORIAN
METHOD:PUBLISH
X-WR-CALNAME:Associazione Fantalica APS
X-ORIGINAL-URL:https://www.fantalica.com/event/lezione-di-prova-corso-disegno-casalserugo-ottobre/
X-WR-CALDESC:LEZIONE DI PROVA a Casalserugo &#8211; corso di DISEGNO &#8211; ottobre 2023
BEGIN:VEVENT
DTSTART:20231024T184500
DTEND:
SUMMARY:LEZIONE DI PROVA a Casalserugo &#8211; corso di DISEGNO &#8211; ottobre 2023
DESCRIPTION:PRESENTAZIONE E LEZIONE DI PROVA del corso di DISEGNO
LOCATION:Via Papa Giovanni XXIII, 35020, Casalserugo
END:VEVENT
END:VCALENDAR
