BEGIN:VCALENDAR
VERSION:2.0
PRODID:-//Associazione Fantalica APS
CALSCALE:GREGORIAN
METHOD:PUBLISH
X-WR-CALNAME:Associazione Fantalica APS
X-ORIGINAL-URL:https://www.fantalica.com/event/ciak-si-gira-workshop-ragazzi/
X-WR-CALDESC:Ciak&#8230;si gira! &#8211; Workshop di Cinema per ragazzi
BEGIN:VEVENT
DTSTART:20220528T150000
DTEND:20220529T183000
SUMMARY:Ciak&#8230;si gira! &#8211; Workshop di Cinema per ragazzi
DESCRIPTION:“Ciak … si gira!” una Maratona Cinematografica dove in sole 36 ore tutti i ragazzi partecipanti, suddivisi in squadre, affronteranno la sfida di produrre un brevissimo cortometraggio!
LOCATION:via Giovanni Gradenigo, 10 - Padova
END:VEVENT
END:VCALENDAR
