BEGIN:VCALENDAR
VERSION:2.0
PRODID:-//Associazione Fantalica APS
CALSCALE:GREGORIAN
METHOD:PUBLISH
X-WR-CALNAME:Associazione Fantalica APS
X-ORIGINAL-URL:https://www.fantalica.com/event/il-portello-e-i-luoghi-della-fede-dalla-chiesa-di-san-massimo-alla-chiesa-di-ognissanti/
X-WR-CALDESC:Il Portello e i luoghi della fede. Dalla chiesa di San Massimo alla chiesa di Ognissanti
BEGIN:VEVENT
DTSTART:20161021T180000
DTEND:
SUMMARY:Il Portello e i luoghi della fede. Dalla chiesa di San Massimo alla chiesa di Ognissanti
DESCRIPTION:Visita guidata alle antiche chiese del Portello dalla chiesa di San Massimo verso Ognissanti

LOCATION:Oratorio della Beata Elena, Via Ognissanti, Padova 
END:VEVENT
END:VCALENDAR
