BEGIN:VCALENDAR
VERSION:2.0
PRODID:-//Associazione Fantalica APS
CALSCALE:GREGORIAN
METHOD:PUBLISH
X-WR-CALNAME:Associazione Fantalica APS
X-ORIGINAL-URL:https://www.fantalica.com/event/navigazione-lungo-il-piovego-da-porta-portello-verso-golena-san-massimo/
X-WR-CALDESC:Navigazione lungo il Piovego. Da porta Portello verso Golena San Massimo
BEGIN:VEVENT
DTSTART:20161016T170000
DTEND:
SUMMARY:Navigazione lungo il Piovego. Da porta Portello verso Golena San Massimo
DESCRIPTION:Uscita in battello con visita guidata a cura della storica dell’arte Loredana Pavanello e accompagnamento musicale.
LOCATION:Porta Ognissanti
END:VEVENT
END:VCALENDAR
