BEGIN:VCALENDAR
VERSION:2.0
PRODID:-//Associazione Fantalica APS
CALSCALE:GREGORIAN
METHOD:PUBLISH
X-WR-CALNAME:Associazione Fantalica APS
X-ORIGINAL-URL:https://www.fantalica.com/event/la-chiesa-di-santa-croce-e-la-scoletta-del-redentore-visita-guidata/
X-WR-CALDESC:La chiesa di Santa Croce e la Scoletta del Redentore &#8211; Visita Guidata
BEGIN:VEVENT
DTSTART:20210221T160000
DTEND:
SUMMARY:La chiesa di Santa Croce e la Scoletta del Redentore &#8211; Visita Guidata
DESCRIPTION:La chiesa di Santa Croce e la Scoletta del Redentore - Visita Guidata. 
LOCATION:Via S. Croce 1, Santa Croce PD
END:VEVENT
END:VCALENDAR
