BEGIN:VCALENDAR
VERSION:2.0
PRODID:-//Associazione Fantalica APS
CALSCALE:GREGORIAN
METHOD:PUBLISH
X-WR-CALNAME:Associazione Fantalica APS
X-ORIGINAL-URL:https://www.fantalica.com/event/mostra-art-factory-lab-selvazzano/
X-WR-CALDESC:Mostra Art Factory Lab &#8211; Selvazzano
BEGIN:VEVENT
DTSTART:20200517T183000
DTEND:20200517T203000
SUMMARY:Mostra Art Factory Lab &#8211; Selvazzano
DESCRIPTION:17 maggio ore 17.00: Mostra di fine attività del progetto ArtFactoryLab patrocinato dal Comune di Selvazzano
LOCATION:Via Roma, 68, 35030 Selvazzano
END:VEVENT
END:VCALENDAR
